BEGIN:VCALENDAR
VERSION:2.0
PRODID:-//wp-events-plugin.com//7.2.3.1//EN
TZID:Europe/Paris
X-WR-TIMEZONE:Europe/Paris
BEGIN:VEVENT
UID:1957@bananierbleu.fr
DTSTART;TZID=Europe/Paris:20161007T203000
DTEND;TZID=Europe/Paris:20161007T203000
DTSTAMP:20161001T210400Z
URL:https://bananierbleu.fr/concerts-test/trio-soleil/
SUMMARY:Trio Soleil - le Petit Duc - 7 Oct 16 20:30
DESCRIPTION:Franck Nicolas (tp & conques)\, Nelson Veras (g)\, Sonny Troup
 é (dms)
ATTACH;FMTTYPE=image/jpeg:https://bananierbleu.fr/wp-content/uploads/2015/
 09/TrioSoleil250.jpg
CATEGORIES:Concerts en France
LOCATION:le Petit Duc\, 1 rue Emile Tavan\, Aix en Provence\, PACA\, 13100\
 , PACA\, France
GEO:43.530038;5.441477
X-APPLE-STRUCTURED-LOCATION;VALUE=URI;X-ADDRESS=1 rue Emile Tavan\, Aix en 
 Provence\, PACA\, 13100\, PACA\, France;X-APPLE-RADIUS=100;X-TITLE=le Peti
 t Duc:geo:43.530038,5.441477
END:VEVENT
BEGIN:VTIMEZONE
TZID:Europe/Paris
X-LIC-LOCATION:Europe/Paris
BEGIN:DAYLIGHT
DTSTART:20160327T030000
TZOFFSETFROM:+0100
TZOFFSETTO:+0200
TZNAME:CEST
END:DAYLIGHT
END:VTIMEZONE
END:VCALENDAR