BEGIN:VCALENDAR
VERSION:2.0
PRODID:-//wp-events-plugin.com//7.2.3.1//EN
TZID:Europe/Paris
X-WR-TIMEZONE:Europe/Paris
BEGIN:VEVENT
UID:3256@bananierbleu.fr
DTSTART;TZID=Europe/Paris:20220119T203000
DTEND;TZID=Europe/Paris:20220119T203000
DTSTAMP:20220105T141342Z
URL:https://bananierbleu.fr/concerts-test/valerie-louri-sortie-de-lalbum-t
 ransition/
SUMMARY:Valérie Louri - sortie de l'album Transition - le Triton - 19 Jan 
 22 20:30
DESCRIPTION:Pour ce concert de sortie de son tout nouvel album “Transitio
 n”\, la lumineuse chanteuse Valérie Louri se présente sur la scène du
  Triton accompagnée de l'équipe de choc de musiciens avec lesquels elle 
 l’a conçu et enregistré. Avec “Transition”\, Valérie Louri affich
 e et assume un renouveau musical total. Depuis son virage à 180 degrés a
 vec son dernier opus “Le bruit des vagues”\, Valérie propose un unive
 rs totalement différent de la pureté acoustique à laquelle elle avait h
 abitué son public. Tout en affirmant ses origines créoles\, la chanteuse
  défend\, sans complexe\, une musique kabbalistique évolutive émergeant
 e. Un programme riche en mystères et en belles émotions à venir découv
 rir en live !\n\n\n 	Valérie Louri chant\n 	Thérèse Henry basse\n 	Céd
 ric Baud guitare\n 	Guillaume Marsault batterie\n\n
ATTACH;FMTTYPE=image/jpeg:https://bananierbleu.fr/wp-content/uploads/2022/
 01/20220119-valerie-louri.jpg
CATEGORIES:Concerts en France
LOCATION:le Triton\, 11 bis\, rue du Coq Français\, Les Lilas\, Île de Fr
 ance\, 93260\, IleDeFrance\, France
GEO:48.878707;2.414851
X-APPLE-STRUCTURED-LOCATION;VALUE=URI;X-ADDRESS=11 bis\, rue du Coq França
 is\, Les Lilas\, Île de France\, 93260\, IleDeFrance\, France;X-APPLE-RAD
 IUS=100;X-TITLE=le Triton:geo:48.878707,2.414851
END:VEVENT
BEGIN:VTIMEZONE
TZID:Europe/Paris
X-LIC-LOCATION:Europe/Paris
BEGIN:STANDARD
DTSTART:20211031T020000
TZOFFSETFROM:+0200
TZOFFSETTO:+0100
TZNAME:CET
END:STANDARD
END:VTIMEZONE
END:VCALENDAR