BEGIN:VCALENDAR
VERSION:2.0
PRODID:-//wp-events-plugin.com//7.2.3.1//EN
TZID:Europe/Paris
X-WR-TIMEZONE:Europe/Paris
BEGIN:VEVENT
UID:629@bananierbleu.fr
DTSTART;TZID=Europe/Paris:20131015T183000
DTEND;TZID=Europe/Paris:20131015T183000
DTSTAMP:20130924T154230Z
URL:https://bananierbleu.fr/concerts-test/valerie-louri/
SUMMARY:Valérie Louri - le Baiser Salé - 15 Oct 13 18:30
DESCRIPTION:FESTIVAL JAZZ SUR SEINE 2013\nSHOWCASE - VALERIE LOURI QUINTET\
 nMathilde Febrer violon\, Jimi Drouillard guitare\,\nValéry Denise voix/u
 du/tba/basse/tambour bèlè/percus\,\nValérie Louri voix.\nEn attendant l
 a finalisation de son troisième album solo\, cette chanteuse d’origine 
 martiniquaise propose pour la rentrée 2013 un hommage à une grande dame 
 du zouk intitulé « Édith Lefel Tribute ». Un album à la fois intimist
 e et dansant avec quelques surprises pour le public qui suit cette chanteu
 se depuis ses débuts sur scène en 2000 notamment avec le groupe Bélya. 
CATEGORIES:Concerts en France
LOCATION:le Baiser Salé\, 58\, rue des Lombards\, Paris\, Île de France\,
  75001\, IleDeFrance\, France
GEO:48.8598;2.34791
X-APPLE-STRUCTURED-LOCATION;VALUE=URI;X-ADDRESS=58\, rue des Lombards\, Par
 is\, Île de France\, 75001\, IleDeFrance\, France;X-APPLE-RADIUS=100;X-TI
 TLE=le Baiser Salé:geo:48.8598,2.34791
END:VEVENT
BEGIN:VTIMEZONE
TZID:Europe/Paris
X-LIC-LOCATION:Europe/Paris
BEGIN:DAYLIGHT
DTSTART:20130331T030000
TZOFFSETFROM:+0100
TZOFFSETTO:+0200
TZNAME:CEST
END:DAYLIGHT
END:VTIMEZONE
END:VCALENDAR