BEGIN:VCALENDAR
VERSION:2.0
PRODID:-//wp-events-plugin.com//7.2.3.1//EN
TZID:Europe/Paris
X-WR-TIMEZONE:Europe/Paris
BEGIN:VEVENT
UID:4121@bananierbleu.fr
DTSTART;TZID=Europe/Paris:20260427T193000
DTEND;TZID=Europe/Paris:20260427T193000
DTSTAMP:20260421T085954Z
URL:https://bananierbleu.fr/concerts-test/vincent-segal-alain-jean-marie/
SUMMARY:Vincent Ségal & Alain Jean-Marie - 38Riv' - Jazz Club & Bar - 27 A
 vr 26 19:30
DESCRIPTION:\n 	Personnel : Alain Jean-Marie (piano)\, Vincent Ségal (viol
 oncelle)\n 	Présentation : Ce concert réunit deux figures majeures du ja
 zz : Alain Jean-Marie\, pianiste aux mélodies délicates et évocatrices\
 , et Vincent Ségal\, violoncelliste virtuose. Leur répertoire explore de
 s univers musicaux riches\, mêlant compositions originales et hommages à
  des artistes marquants. Le cadre intimiste du 38Riv\, situé dans le Mara
 is\, offre une expérience immersive\, idéale pour apprécier la profonde
 ur et la sensibilité de leur jeu.\n
ATTACH;FMTTYPE=image/jpeg:https://bananierbleu.fr/wp-content/uploads/2026/
 04/Segal_Jean-Marie.webp
CATEGORIES:Concerts en France
LOCATION:38Riv' - Jazz Club & Bar\, 38\, rue de Rivoli\, Paris\, Île de Fr
 ance\, 75004\, IleDeFrance\, France
GEO:48.856461;2.356461
X-APPLE-STRUCTURED-LOCATION;VALUE=URI;X-ADDRESS=38\, rue de Rivoli\, Paris\
 , Île de France\, 75004\, IleDeFrance\, France;X-APPLE-RADIUS=100;X-TITLE
 =38Riv' - Jazz Club & Bar:geo:48.856461,2.356461
END:VEVENT
BEGIN:VTIMEZONE
TZID:Europe/Paris
X-LIC-LOCATION:Europe/Paris
BEGIN:DAYLIGHT
DTSTART:20260329T030000
TZOFFSETFROM:+0100
TZOFFSETTO:+0200
TZNAME:CEST
END:DAYLIGHT
END:VTIMEZONE
END:VCALENDAR