BEGIN:VCALENDAR
VERSION:2.0
PRODID:-//wp-events-plugin.com//7.2.3.1//EN
TZID:Europe/Paris
X-WR-TIMEZONE:Europe/Paris
BEGIN:VEVENT
UID:653@bananierbleu.fr
DTSTART;TZID=Europe/Paris:20131107T193000
DTEND;TZID=Europe/Paris:20131107T193000
DTSTAMP:20131024T194759Z
URL:https://bananierbleu.fr/concerts-test/viviane-ginape-hommage-a-billie-
 holiday/
SUMMARY:Viviane Ginapé - Hommage à Billie Holiday - le Baiser Salé - 7 N
 ov 13 19:30
DESCRIPTION:"Jazz-Vocal" - Résidence\n« Hommage à Billie Holiday »\nLes
  duos de Viviane GINAPE\nViviane Ginapé voix\, Serge Merlaud guitare\nDan
 s le cadre de sa résidence\, invitation à des musiciens à même de sout
 enir sa voix et rendrent hommage aux plus grandes empreintes du jazz… el
 le invite aujourd’hui Serge\, qui\, à 26 ans\, forme un duo avec le gui
 tariste N'Guyen . A son actif\, une dizaine de formations jazz\, des rythm
 iques constituées pour des concerts donnés par des solistes d'exception 
 tels que Sylvain Bœuf\, Guillaume Naturel\, Alain Debiossat\, Karl Schoss
 er\, Olivier Ker Ourio... 
CATEGORIES:Concerts en France
LOCATION:le Baiser Salé\, 58\, rue des Lombards\, Paris\, Île de France\,
  75001\, IleDeFrance\, France
GEO:48.8598;2.34791
X-APPLE-STRUCTURED-LOCATION;VALUE=URI;X-ADDRESS=58\, rue des Lombards\, Par
 is\, Île de France\, 75001\, IleDeFrance\, France;X-APPLE-RADIUS=100;X-TI
 TLE=le Baiser Salé:geo:48.8598,2.34791
END:VEVENT
BEGIN:VTIMEZONE
TZID:Europe/Paris
X-LIC-LOCATION:Europe/Paris
BEGIN:STANDARD
DTSTART:20131027T020000
TZOFFSETFROM:+0200
TZOFFSETTO:+0100
TZNAME:CET
END:STANDARD
END:VTIMEZONE
END:VCALENDAR