BEGIN:VCALENDAR
VERSION:2.0
PRODID:-//wp-events-plugin.com//7.2.3.1//EN
TZID:Europe/Paris
X-WR-TIMEZONE:Europe/Paris
BEGIN:VEVENT
UID:560@bananierbleu.fr
DTSTART;TZID=Europe/Paris:20130704T193000
DTEND;TZID=Europe/Paris:20130704T193000
DTSTAMP:20130622T152506Z
URL:https://bananierbleu.fr/concerts-test/viviane-ginape-mario-canonge-jaz
 z-vocal-residence-2/
SUMMARY:Viviane Ginapé & Mario Canonge - jazz vocal résidence - le Baiser
  Salé - 4 Juil 13 19:30
DESCRIPTION:Viviane Ginape voix / Mario Canonge piano.\nUn retour dans le t
 emps vers les standards de Jazz. Laissons nous émouvoir et surprendre par
  l’interprétation vivifiante de ces deux talents antillais! Bien qu'ils
  soient habitués du Baiser Salé\, ils incarnent également\, sans nul do
 ute\, le Jazz De Demain !
CATEGORIES:Concerts en France
LOCATION:le Baiser Salé\, 58\, rue des Lombards\, Paris\, Île de France\,
  75001\, IleDeFrance\, France
GEO:48.8598;2.34791
X-APPLE-STRUCTURED-LOCATION;VALUE=URI;X-ADDRESS=58\, rue des Lombards\, Par
 is\, Île de France\, 75001\, IleDeFrance\, France;X-APPLE-RADIUS=100;X-TI
 TLE=le Baiser Salé:geo:48.8598,2.34791
END:VEVENT
BEGIN:VTIMEZONE
TZID:Europe/Paris
X-LIC-LOCATION:Europe/Paris
BEGIN:DAYLIGHT
DTSTART:20130331T030000
TZOFFSETFROM:+0100
TZOFFSETTO:+0200
TZNAME:CEST
END:DAYLIGHT
END:VTIMEZONE
END:VCALENDAR