BEGIN:VCALENDAR
VERSION:2.0
PRODID:-//wp-events-plugin.com//7.2.3.1//EN
TZID:Europe/Paris
X-WR-TIMEZONE:Europe/Paris
BEGIN:VEVENT
UID:3749@bananierbleu.fr
DTSTART;TZID=America/Guadeloupe:20240201T190000
DTEND;TZID=America/Guadeloupe:20240201T190000
DTSTAMP:20240124T151628Z
URL:https://bananierbleu.fr/concerts-test/vokaal-xp-6/
SUMMARY:Vokaal XP - Magik Garden - 1 Fév 24 19:00
DESCRIPTION:Alain Joséphine (sax &amp\; vcls)\, Karine Pentier (keys &amp\
 ; vcls)\, Alex Jabot (g)
ATTACH;FMTTYPE=image/jpeg:https://bananierbleu.fr/wp-content/uploads/2024/
 01/VokaalXP240201.jpg
CATEGORIES:Concerts en Guadeloupe
LOCATION:Magik Garden\, Domaine de Saint-Gérard - RN1 - Gros Morne Dolé\,
  Gourbeyre\, Guadeloupe\, 97113\, Guadeloupe\, Guadeloupe
X-APPLE-STRUCTURED-LOCATION;VALUE=URI;X-ADDRESS=Domaine de Saint-Gérard - 
 RN1 - Gros Morne Dolé\, Gourbeyre\, Guadeloupe\, 97113\, Guadeloupe\, Gua
 deloupe;X-APPLE-RADIUS=100;X-TITLE=Magik Garden:geo:0,0
END:VEVENT
BEGIN:VTIMEZONE
TZID:America/Guadeloupe
X-LIC-LOCATION:America/Guadeloupe
BEGIN:STANDARD
DTSTART:20230201T190000
TZOFFSETFROM:-0400
TZOFFSETTO:-0400
TZNAME:AST
END:STANDARD
END:VTIMEZONE
END:VCALENDAR