BEGIN:VCALENDAR
VERSION:2.0
PRODID:-//wp-events-plugin.com//7.2.3.1//EN
TZID:Europe/Paris
X-WR-TIMEZONE:Europe/Paris
BEGIN:VEVENT
UID:2159@bananierbleu.fr
DTSTART;TZID=Europe/Paris:20170331T200000
DTEND;TZID=Europe/Paris:20170331T200000
DTSTAMP:20170316T142149Z
URL:https://bananierbleu.fr/concerts-test/will-calhoun-patrick-de-caumette
 -trio-4/
SUMMARY:Will Calhoun & Patrick de Caumette trio - Ja'Ri Beach - 31 Mar 17 2
 0:00
DESCRIPTION:de Loïc Souriant :\n\n"J'ai le plaisir de vous annoncer que me
 s amis musiciens des Etats-Unis Will CALHOUN et Patrick DE CAUMETTE seront
  en Guadeloupe pour 4 concerts en Trio avec le bassiste Rubin EDWARDS . Wi
 ll Calhoun est un batteur mondialement reconnu . Il est un des membres fon
 dateurs du légendaire groupe de rock Living Color et a travaillé notamme
 nt avec Wayne Shorter \, Mick Jagger\, Harry Belafonte \, Mike Stern etc .
 .. il joue également sur un album de Marcus Miller. Will Calhoun et Patri
 ck De Caumette ont étudié la musique à Berklee college of music\; c'est
  d'ailleurs à Berklee que j' ai connu Will . Je connaissais Patrick depui
 s la Guadeloupe oû nous avons fait plusieurs concerts ensemble avant de p
 artir à Boston. Patrick De Caumette poursuit sa carrière entre Paris et 
 Philadelphie oû il est installé depuis plusieurs années\; il a travaill
 é avec des musiciens de renommée internationale tel que Richard Bona \, 
 Will Calhoun\, Etienne M' Bappé Ainsi Dominique Bérose \, grand pianiste
  Guadeloupéen. Le " WILL CALHOUN - PATRICK DE CAUMETTE TRIO " se produira
  le vendredi 24 mars à SONIS \, le 25 chez Henri à Marie-Galante \, le 3
 0 à L'Americano ( Ste Anne) et le 31 au Jari' Beach."
ATTACH;FMTTYPE=image/jpeg:https://bananierbleu.fr/wp-content/uploads/2017/
 03/17308838_575972382611494_8812146548077922598_n.jpg
CATEGORIES:Concerts en Guadeloupe
LOCATION:Ja'Ri Beach\, Imm. Vital\, Bât. A\, bd Houelbourg\, ZI Jarry\, Ba
 ie-Mahault\, Guadeloupe\, 97122\, Guadeloupe\, Guadeloupe
GEO:16.242293;-61.559159
X-APPLE-STRUCTURED-LOCATION;VALUE=URI;X-ADDRESS=Imm. Vital\, Bât. A\, bd H
 ouelbourg\, ZI Jarry\, Baie-Mahault\, Guadeloupe\, 97122\, Guadeloupe\, Gu
 adeloupe;X-APPLE-RADIUS=100;X-TITLE=Ja'Ri Beach:geo:16.242293,-61.559159
END:VEVENT
BEGIN:VTIMEZONE
TZID:Europe/Paris
X-LIC-LOCATION:Europe/Paris
BEGIN:DAYLIGHT
DTSTART:20170326T030000
TZOFFSETFROM:+0100
TZOFFSETTO:+0200
TZNAME:CEST
END:DAYLIGHT
END:VTIMEZONE
END:VCALENDAR