BEGIN:VCALENDAR
VERSION:2.0
PRODID:-//wp-events-plugin.com//7.2.3.1//EN
TZID:Europe/Paris
X-WR-TIMEZONE:Europe/Paris
BEGIN:VEVENT
UID:3801@bananierbleu.fr
DTSTART;TZID=Europe/Paris:20240426T200000
DTEND;TZID=Europe/Paris:20240426T200000
DTSTAMP:20240326T105958Z
URL:https://bananierbleu.fr/concerts-test/xavier-richardeau-a-caribbean-th
 ing-2/
SUMMARY:Xavier Richardeau – A Caribbean Thing - le Bal Blomet - 26 Avr 24
  20:00
DESCRIPTION:\n\n\n\n\nXavier Richardeau ? Saxophone soprano et baryton\n\n\
 nJocelyn Menard ? Saxophone ténor\nRalph Lavital ? Guitare\nLeonardo Mont
 ana ? Piano\nThérèse Henri ? Basse\nJean-Philippe Fanfant ? Batterie\n\n
 Guest :\nVeronique Hermann Sambin Voix.\n\n\n\n\n\n\n\n\n\n\n\n\nInitialem
 ent connu pour ses années urbaines\, à cent à l’heure\, animant les p
 lus célèbres clubs de jazz de la capitale\, l’artiste angérien XAVIE
 R RICHARDEAU a fait le choix de voyager\, de faire bouger les lignes de s
 es horizons. Il n’y a pas d’abandons dans son parcours. De la Charente
 -Maritime à Paris. De New-York au Gosier. La musique caribéenne est là 
 depuis fort longtemps \; la belle chanson française aussi \; Le jazz\, to
 ujours en moteur. Il continue à renouveler son discours musical sans se t
 rahir.\n\nLe temps est venu pour le saxophoniste d’exprimer musicalement
  ses six dernières années guadeloupéennes\, de témoigner\, sans parole
 . Entouré des siens\, sa musique intérieure aborde aujourd’hui une pal
 ette de teintes originales \; elle est partout inspirée par le quotidien 
 de cette île et raisonne justement en lui\, résonne encore.\n\nInstantan
 é de vie\, voici le polaroïd d’une riche expérience spontanée\, sur 
 le fil\, flashant le parcours d’un électron libre funambule. Plus volat
 il\, délié\, serein que jamais\, le saxophone soprano\, majoritairement 
 utilisé par Xavier Richardeau dans cette « pensée caribéenne »\, est 
 l’illustration flagrante du changement de cap dans la carrière du souff
 lant. Il signe ici l’écriture et les arrangements de son quotidien.\n\n
 Comme l’impression de rentrer dans son New Ti Paris (Le Gosier-Guadeloup
 e)\, de regarder Marie Galante\, les Saintes\, la Dominique – au loin 
 – s’égrainer\, et de participer à ce mélodieux tourbillon musical\,
  ouvert sur le monde.\n\n\n\n\n\n
ATTACH;FMTTYPE=image/jpeg:https://bananierbleu.fr/wp-content/uploads/2024/
 03/4_26-Richardeau-page-001.jpg
LOCATION:le Bal Blomet\, 33 rue Blomet\, Paris\, Île de France\, 75015\, I
 leDeFrance\, France
GEO:48.8426312;2.3061755999999605
X-APPLE-STRUCTURED-LOCATION;VALUE=URI;X-ADDRESS=33 rue Blomet\, Paris\, Îl
 e de France\, 75015\, IleDeFrance\, France;X-APPLE-RADIUS=100;X-TITLE=le B
 al Blomet:geo:48.8426312,2.3061755999999605
END:VEVENT
BEGIN:VTIMEZONE
TZID:Europe/Paris
X-LIC-LOCATION:Europe/Paris
BEGIN:DAYLIGHT
DTSTART:20240331T030000
TZOFFSETFROM:+0100
TZOFFSETTO:+0200
TZNAME:CEST
END:DAYLIGHT
END:VTIMEZONE
END:VCALENDAR