BEGIN:VCALENDAR
VERSION:2.0
PRODID:-//wp-events-plugin.com//7.2.3.1//EN
TZID:Europe/Paris
X-WR-TIMEZONE:Europe/Paris
BEGIN:VEVENT
UID:2689@bananierbleu.fr
DTSTART;TZID=Europe/Paris:20180901T203000
DTEND;TZID=Europe/Paris:20180901T203000
DTSTAMP:20180827T094652Z
URL:https://bananierbleu.fr/concerts-test/yann-clery-motozot-3/
SUMMARY:Yann Cléry - Motozot - La Sardine - 1 Sep 18 20:30
DESCRIPTION:Une redéfinition de la musique guyanaise …\nYann Cléry bras
 se les tambours de la tradition en les conjuguant aux musiques actuelles. 
 En dix morceaux\, son album Motozot propose un voyage émouvant\, du jazz 
 au ragga\, du hip hop au rock. C’est avec cet esprit d’ouverture\, de 
 recherche et de rébellion qu’il amène la flûte traversière sur des c
 hemins inédits.
ATTACH;FMTTYPE=image/jpeg:https://bananierbleu.fr/wp-content/uploads/2018/
 08/40097776_2135440773391973_8530529705328115712_n.jpg
CATEGORIES:Concerts en France
LOCATION:La Sardine\, 1 place du Chatelet\, Orléans\, Centre Val de Loire\
 , 45000\, Centre Val de Loire\, France
GEO:47.8985193;1.9062017999999625
X-APPLE-STRUCTURED-LOCATION;VALUE=URI;X-ADDRESS=1 place du Chatelet\, Orlé
 ans\, Centre Val de Loire\, 45000\, Centre Val de Loire\, France;X-APPLE-R
 ADIUS=100;X-TITLE=La Sardine:geo:47.8985193,1.9062017999999625
END:VEVENT
BEGIN:VTIMEZONE
TZID:Europe/Paris
X-LIC-LOCATION:Europe/Paris
BEGIN:DAYLIGHT
DTSTART:20180325T030000
TZOFFSETFROM:+0100
TZOFFSETTO:+0200
TZNAME:CEST
END:DAYLIGHT
END:VTIMEZONE
END:VCALENDAR