BEGIN:VCALENDAR
VERSION:2.0
PRODID:-//wp-events-plugin.com//7.2.3.1//EN
TZID:Europe/Paris
X-WR-TIMEZONE:Europe/Paris
BEGIN:VEVENT
UID:193@bananierbleu.fr
DTSTART;TZID=Europe/Paris:20120525T203000
DTEND;TZID=Europe/Paris:20120525T233000
DTSTAMP:20140518T200643Z
URL:https://bananierbleu.fr/concerts-test/yapa-featuring-simon-winsey/
SUMMARY:Yapa featuring Simon Winsey - Sunside - 25 Mai 12 20:30
DESCRIPTION:Pour la sortie de l’album “WagaMunbai”\nConcert à 20h30 
 – Entrée 15/12 euros\nSimon Chenet – guitariste \; Christophe Combet 
 – guitariste \; Fabrice Bourguignat – guitariste \; Xavier Hamon – p
 ercussions \; Simon Winsey - vocal\nYAPA est un quartet Parisien désormai
 s habitué du Sunset pour des soirées toujours chaudes en ambiance et en 
 rencontres musicales.\nGroupe voyageur\, sa musique raconte des histoires 
 instrumentales au long de ses mélodies guitaristiques et de ses envolées
  percussives.\nSimon WINSEY est un talentueux multi-instrumentiste du Burk
 ina-Faso de passage à Paris. Il a accompagnés de grands noms de la musiq
 ue africaine avec sa Kora\, sa flûte peul ou l'arc à bouche. C'est un au
 ssi un grand chanteur. Il a rencontré YAPA au festival Jazz à Ouagadougo
 u en 2008 et depuis ils se sont croisés et ont jammés ensemble à de nom
 breuses reprises. Ce concert est aussi l'occasion de présenter notre maxi
  vinyle édition limitée "WagaMumbai" (6 titres et de nombreux invités).
  Enregistré en Inde\, au Burkina-Faso et en France\, ce vinyle annonce la
  sortie à l'automne prochain de notre 4ème album. Longue vie !
CATEGORIES:Concerts en France
LOCATION:Sunside\, 60\, rue des Lombards\, Paris\, Île de France\, 75001\,
  IleDeFrance\, France
GEO:48.859937;2.347751
X-APPLE-STRUCTURED-LOCATION;VALUE=URI;X-ADDRESS=60\, rue des Lombards\, Par
 is\, Île de France\, 75001\, IleDeFrance\, France;X-APPLE-RADIUS=100;X-TI
 TLE=Sunside:geo:48.859937,2.347751
END:VEVENT
BEGIN:VTIMEZONE
TZID:Europe/Paris
X-LIC-LOCATION:Europe/Paris
BEGIN:DAYLIGHT
DTSTART:20120325T030000
TZOFFSETFROM:+0100
TZOFFSETTO:+0200
TZNAME:CEST
END:DAYLIGHT
END:VTIMEZONE
END:VCALENDAR