BEGIN:VCALENDAR
VERSION:2.0
PRODID:-//wp-events-plugin.com//7.2.3.1//EN
TZID:Europe/Paris
X-WR-TIMEZONE:Europe/Paris
BEGIN:VEVENT
UID:1733@bananierbleu.fr
DTSTART;TZID=Europe/Paris:20160305T200000
DTEND;TZID=Europe/Paris:20160305T200000
DTSTAMP:20160304T081404Z
URL:https://bananierbleu.fr/concerts-test/yohann-danier-4tet/
SUMMARY:Yohann Danier 4tet - Ja'Ri Beach - 5 Mar 16 20:00
DESCRIPTION:Avec Sylvain Joseph\, Jonathan Jurion\, Fabrice Fanfant &amp\; 
 Yohann Danier
ATTACH;FMTTYPE=image/jpeg:https://bananierbleu.fr/wp-content/uploads/2016/
 03/12813951_10153955706467350_1266636486636294804_n.jpg
CATEGORIES:Concerts en Guadeloupe
LOCATION:Ja'Ri Beach\, Imm. Vital\, Bât. A\, bd Houelbourg\, ZI Jarry\, Ba
 ie-Mahault\, Guadeloupe\, 97122\, Guadeloupe\, Guadeloupe
GEO:16.242293;-61.559159
X-APPLE-STRUCTURED-LOCATION;VALUE=URI;X-ADDRESS=Imm. Vital\, Bât. A\, bd H
 ouelbourg\, ZI Jarry\, Baie-Mahault\, Guadeloupe\, 97122\, Guadeloupe\, Gu
 adeloupe;X-APPLE-RADIUS=100;X-TITLE=Ja'Ri Beach:geo:16.242293,-61.559159
END:VEVENT
BEGIN:VTIMEZONE
TZID:Europe/Paris
X-LIC-LOCATION:Europe/Paris
BEGIN:STANDARD
DTSTART:20151025T020000
TZOFFSETFROM:+0200
TZOFFSETTO:+0100
TZNAME:CET
END:STANDARD
END:VTIMEZONE
END:VCALENDAR