BEGIN:VCALENDAR
VERSION:2.0
PRODID:-//wp-events-plugin.com//7.2.3.1//EN
TZID:Europe/Paris
X-WR-TIMEZONE:Europe/Paris
BEGIN:VEVENT
UID:3130@bananierbleu.fr
DTSTART;TZID=Europe/Paris:20200305T203000
DTEND;TZID=Europe/Paris:20200305T203000
DTSTAMP:20200225T122430Z
URL:https://bananierbleu.fr/concerts-test/yusan-2/
SUMMARY:Yusan - la Petite Halle - 5 Mar 20 20:30
DESCRIPTION:YUSAN : Une histoire d’amitié qui se traduit en musique et p
 ar le désir de composer ensemble.\n\nYusan\, qui signifie héritage en co
 réen\, fait voyager son jazz\, des musiques caribéennes\, aux rythmiques
  africaines\, en passant par la chanson\, les sonorités gospel et les mus
 iques urbaines.\n\nUne alliance évidente pour ces artistes aux identités
  fortes\, qui partagent un socle commun : des influences qui se rencontren
 t\, une complicité et l’envie d’un métissage musical !\n\nANN SHIRLE
 Y voix\nROMAIN CUOQ sax\nKEVIN JUBERT claviers\nGWEN LADEUX basse\nMATHIEU
  EDWARD batterie\nRALPH LAVITAL guitare
ATTACH;FMTTYPE=image/jpeg:https://bananierbleu.fr/wp-content/uploads/2020/
 02/Yusan_web.jpg
CATEGORIES:Concerts en France
LOCATION:la Petite Halle\,  Parc de la Villette  211\, av. Jean Jaurès \, 
 Paris\, Île de France\, 75019\, IleDeFrance\, France
GEO:48.8918794;2.3911855999999716
X-APPLE-STRUCTURED-LOCATION;VALUE=URI;X-ADDRESS= Parc de la Villette  211\,
  av. Jean Jaurès \, Paris\, Île de France\, 75019\, IleDeFrance\, France
 ;X-APPLE-RADIUS=100;X-TITLE=la Petite Halle:geo:48.8918794,2.3911855999999
 716
END:VEVENT
BEGIN:VTIMEZONE
TZID:Europe/Paris
X-LIC-LOCATION:Europe/Paris
BEGIN:STANDARD
DTSTART:20191027T020000
TZOFFSETFROM:+0200
TZOFFSETTO:+0100
TZNAME:CET
END:STANDARD
END:VTIMEZONE
END:VCALENDAR