BEGIN:VCALENDAR
VERSION:2.0
PRODID:-//wp-events-plugin.com//7.2.3.1//EN
TZID:Europe/Paris
X-WR-TIMEZONE:Europe/Paris
BEGIN:VEVENT
UID:3746@bananierbleu.fr
DTSTART;TZID=Europe/Paris:20240208T200000
DTEND;TZID=Europe/Paris:20240208T200000
DTSTAMP:20240121T171146Z
URL:https://bananierbleu.fr/concerts-test/yusan-sortie-de-lalbum-ba-yo/
SUMMARY:Yusan - sortie de l'album Ba Yo - New Morning - 8 Fév 24 20:00
DESCRIPTION:A l'occasion de la sortie de leur 1er album "BAYO"\, YUSAN inve
 stit les planches du New Morning pour un voyage musical détonnant !\n\nYU
 SAN est l'illustration du bouillonnement qui règne au sein de la scène m
 usicale parisienne. Carrefour culturel et artistique\, la capitale fait se
  rencontrer des musiciens venus de milieux très différents\, qui mettent
  en commun leurs cultures au service d'un son nouveau. Le nom du groupe\, 
 qui signifie « Héritage » en Coréen\, est un clin d'oeil à leur volon
 té d'ouverture mais aussi à l'attachement qu'ils ont aux notions de raci
 nes et de transmission.\n\nLes influences et itinéraires de chacun se man
 ifestent dans des compositions où le jazz se mêle à diverses esthétiqu
 es\, musiques caribéennes\, world\, gospel. Autant à l'aise sur des ball
 ades que sur les titres up tempo\, le groupe impressionne par sa précisio
 n et fait preuve d'une belle cohésion scénique. Éloquent dans ses arran
 gements et improvisations\, YUSAN fait aussi la part belle à la voix\, da
 ns des chansons en français\, anglais ou créoles portées par des interp
 rètes invités spécialement pour chaque concert.\n\nLire l'article ici :
  https://bananierbleu.fr/28554/ba-yo-le-feu-dartifice-par-yusan/\n\nRalph 
 Lavital\nGuitare\nRomain Cuoq\nSaxophone\nKevin Jubert\nClaviers\nGwen Lad
 eux\nBasse\nMathieu Edouard\nBatterie\n
ATTACH;FMTTYPE=image/jpeg:https://bananierbleu.fr/wp-content/uploads/2024/
 01/Yusan.jpg
CATEGORIES:Concerts en France
LOCATION:New Morning\, 7-9 rue des Petites Ecuries\, Paris\, Île de France
 \, 75010\, IleDeFrance\, France
GEO:48.8732;2.35323
X-APPLE-STRUCTURED-LOCATION;VALUE=URI;X-ADDRESS=7-9 rue des Petites Ecuries
 \, Paris\, Île de France\, 75010\, IleDeFrance\, France;X-APPLE-RADIUS=10
 0;X-TITLE=New Morning:geo:48.8732,2.35323
END:VEVENT
BEGIN:VTIMEZONE
TZID:Europe/Paris
X-LIC-LOCATION:Europe/Paris
BEGIN:STANDARD
DTSTART:20231029T020000
TZOFFSETFROM:+0200
TZOFFSETTO:+0100
TZNAME:CET
END:STANDARD
END:VTIMEZONE
END:VCALENDAR